BEGIN:VCALENDAR
VERSION:2.0
PRODID:-//TV Elz - ECPv6.15.20//NONSGML v1.0//EN
CALSCALE:GREGORIAN
METHOD:PUBLISH
X-WR-CALNAME:TV Elz
X-ORIGINAL-URL:https://tv-elz.de
X-WR-CALDESC:Veranstaltungen für TV Elz
REFRESH-INTERVAL;VALUE=DURATION:PT1H
X-Robots-Tag:noindex
X-PUBLISHED-TTL:PT1H
BEGIN:VTIMEZONE
TZID:Europe/Berlin
BEGIN:DAYLIGHT
TZOFFSETFROM:+0100
TZOFFSETTO:+0200
TZNAME:CEST
DTSTART:20180325T010000
END:DAYLIGHT
BEGIN:STANDARD
TZOFFSETFROM:+0200
TZOFFSETTO:+0100
TZNAME:CET
DTSTART:20181028T010000
END:STANDARD
BEGIN:DAYLIGHT
TZOFFSETFROM:+0100
TZOFFSETTO:+0200
TZNAME:CEST
DTSTART:20190331T010000
END:DAYLIGHT
BEGIN:STANDARD
TZOFFSETFROM:+0200
TZOFFSETTO:+0100
TZNAME:CET
DTSTART:20191027T010000
END:STANDARD
BEGIN:DAYLIGHT
TZOFFSETFROM:+0100
TZOFFSETTO:+0200
TZNAME:CEST
DTSTART:20200329T010000
END:DAYLIGHT
BEGIN:STANDARD
TZOFFSETFROM:+0200
TZOFFSETTO:+0100
TZNAME:CET
DTSTART:20201025T010000
END:STANDARD
BEGIN:DAYLIGHT
TZOFFSETFROM:+0100
TZOFFSETTO:+0200
TZNAME:CEST
DTSTART:20210328T010000
END:DAYLIGHT
BEGIN:STANDARD
TZOFFSETFROM:+0200
TZOFFSETTO:+0100
TZNAME:CET
DTSTART:20211031T010000
END:STANDARD
BEGIN:DAYLIGHT
TZOFFSETFROM:+0100
TZOFFSETTO:+0200
TZNAME:CEST
DTSTART:20220327T010000
END:DAYLIGHT
BEGIN:STANDARD
TZOFFSETFROM:+0200
TZOFFSETTO:+0100
TZNAME:CET
DTSTART:20221030T010000
END:STANDARD
BEGIN:DAYLIGHT
TZOFFSETFROM:+0100
TZOFFSETTO:+0200
TZNAME:CEST
DTSTART:20230326T010000
END:DAYLIGHT
BEGIN:STANDARD
TZOFFSETFROM:+0200
TZOFFSETTO:+0100
TZNAME:CET
DTSTART:20231029T010000
END:STANDARD
BEGIN:DAYLIGHT
TZOFFSETFROM:+0100
TZOFFSETTO:+0200
TZNAME:CEST
DTSTART:20240331T010000
END:DAYLIGHT
BEGIN:STANDARD
TZOFFSETFROM:+0200
TZOFFSETTO:+0100
TZNAME:CET
DTSTART:20241027T010000
END:STANDARD
BEGIN:DAYLIGHT
TZOFFSETFROM:+0100
TZOFFSETTO:+0200
TZNAME:CEST
DTSTART:20250330T010000
END:DAYLIGHT
BEGIN:STANDARD
TZOFFSETFROM:+0200
TZOFFSETTO:+0100
TZNAME:CET
DTSTART:20251026T010000
END:STANDARD
BEGIN:DAYLIGHT
TZOFFSETFROM:+0100
TZOFFSETTO:+0200
TZNAME:CEST
DTSTART:20260329T010000
END:DAYLIGHT
BEGIN:STANDARD
TZOFFSETFROM:+0200
TZOFFSETTO:+0100
TZNAME:CET
DTSTART:20261025T010000
END:STANDARD
BEGIN:DAYLIGHT
TZOFFSETFROM:+0100
TZOFFSETTO:+0200
TZNAME:CEST
DTSTART:20270328T010000
END:DAYLIGHT
BEGIN:STANDARD
TZOFFSETFROM:+0200
TZOFFSETTO:+0100
TZNAME:CET
DTSTART:20271031T010000
END:STANDARD
END:VTIMEZONE
BEGIN:VEVENT
DTSTART;TZID=Europe/Berlin:20260306T190000
DTEND;TZID=Europe/Berlin:20260306T220000
DTSTAMP:20260423T204836
CREATED:20260209T203024Z
LAST-MODIFIED:20260209T203024Z
UID:16607-1772823600-1772834400@tv-elz.de
SUMMARY:JHV TV Elz
DESCRIPTION:
URL:https://tv-elz.de/veranstaltung/jhv-tv-elz
CATEGORIES:TV Elz
END:VEVENT
BEGIN:VEVENT
DTSTART;TZID=Europe/Berlin:20250830T170000
DTEND;TZID=Europe/Berlin:20250830T233000
DTSTAMP:20260423T204836
CREATED:20250812T113602Z
LAST-MODIFIED:20250812T113602Z
UID:15647-1756573200-1756596600@tv-elz.de
SUMMARY:🎉 Sommerfest-Alarm beim Turnverein Elz!
DESCRIPTION:lesen\, teilen\, weitersagen 🫶🏼🗣️ \n🕒 Am 30. August 2025 ab 17 Uhr laden wir Groß und Klein zur Turnereiche auf dem Turnplatz der Vereinsturnhalle ein – für Spaß\, Sport und gute Laune! 🥳🎈 \nWas dich erwartet: 🤸‍♀️ Hüpfburg\, Sportspiele 🏈🪀🏸\, leckeres Essen & Getränke 🥩🧃\, Bierbänke & schattige Plätzchen für gemütliches Beisammensein 🍻\, jede Menge Spaß und Action 💛 \nOffenes Event für Jung & Alt – alle sind herzlich willkommen 🙌 \nBringt Freunde\, Familie und gute Laune mit – wir freuen uns auf euch! 📣✨
URL:https://tv-elz.de/veranstaltung/%f0%9f%8e%89-sommerfest-alarm-beim-turnverein-elz
LOCATION:Turnplatzgelände an der Elzer Vereinsturnhalle\, Alter Straßenberg 32\, 65604 Elz\, Hessen\, Deutschland
END:VEVENT
BEGIN:VEVENT
DTSTART;TZID=Europe/Berlin:20250823T090000
DTEND;TZID=Europe/Berlin:20250823T170000
DTSTAMP:20260423T204836
CREATED:20250205T205904Z
LAST-MODIFIED:20250324T152348Z
UID:9565-1755939600-1755968400@tv-elz.de
SUMMARY:Werfertag 2025
DESCRIPTION:2025-02-23 Ausschreibung Werfertag
URL:https://tv-elz.de/veranstaltung/werfertag-2025
LOCATION:Turnplatzgelände an der Elzer Vereinsturnhalle\, Alter Straßenberg 32\, 65604 Elz\, Hessen\, Deutschland
END:VEVENT
BEGIN:VEVENT
DTSTART;TZID=Europe/Berlin:20250628T090000
DTEND;TZID=Europe/Berlin:20250628T170000
DTSTAMP:20260423T204836
CREATED:20250205T211232Z
LAST-MODIFIED:20250205T211232Z
UID:9567-1751101200-1751130000@tv-elz.de
SUMMARY:KiLa Cup
DESCRIPTION:
URL:https://tv-elz.de/veranstaltung/kila-cup-2
END:VEVENT
BEGIN:VEVENT
DTSTART;TZID=Europe/Berlin:20250321T190000
DTEND;TZID=Europe/Berlin:20250321T220000
DTSTAMP:20260423T204836
CREATED:20250205T211148Z
LAST-MODIFIED:20250205T211148Z
UID:9569-1742583600-1742594400@tv-elz.de
SUMMARY:Jahreshauptversammlung TV Elz
DESCRIPTION:
URL:https://tv-elz.de/veranstaltung/jahreshauptversammlung-tv-elz
LOCATION:Nassauer Hof Elz\, Pfortenstraße 22\, Elz\, 65604
END:VEVENT
BEGIN:VEVENT
DTSTART;TZID=Europe/Berlin:20250125T160000
DTEND;TZID=Europe/Berlin:20250125T180000
DTSTAMP:20260423T204836
CREATED:20241231T175306Z
LAST-MODIFIED:20241231T175500Z
UID:9418-1737820800-1737828000@tv-elz.de
SUMMARY:TV Elz Neujahrsempfang 2025
DESCRIPTION:Sportlerehrung und Showprogramm I\nEinlass: 15:30 Uhr
URL:https://tv-elz.de/veranstaltung/tv-elz-neujahrsempfang-2025
LOCATION:Bürgerhaus Elz\, Lehrgasse 19\, Elz\, 65604
CATEGORIES:TV Elz
ATTACH;FMTTYPE=image/jpeg:https://tv-elz.de/wp-content/uploads/2024/12/TV-Elz-Neujahrsempfang-2025-web.jpg
END:VEVENT
BEGIN:VEVENT
DTSTART;TZID=Europe/Berlin:20240907T093000
DTEND;TZID=Europe/Berlin:20240907T180000
DTSTAMP:20260423T204836
CREATED:20240528T173548Z
LAST-MODIFIED:20240528T175141Z
UID:8581-1725701400-1725732000@tv-elz.de
SUMMARY:Werfertag
DESCRIPTION:2024-04-24 Ausschreibung Werfertag
URL:https://tv-elz.de/veranstaltung/werfertag
LOCATION:Turnplatzgelände an der Elzer Vereinsturnhalle\, Alter Straßenberg 32\, 65604 Elz\, Hessen\, Deutschland
CATEGORIES:Leichtathletik,TV Elz
END:VEVENT
BEGIN:VEVENT
DTSTART;TZID=Europe/Berlin:20240824T160000
DTEND;TZID=Europe/Berlin:20240824T230000
DTSTAMP:20260423T204836
CREATED:20240528T175834Z
LAST-MODIFIED:20240724T132504Z
UID:8588-1724515200-1724540400@tv-elz.de
SUMMARY:Sommerfest und Sportlerehrung
DESCRIPTION:
URL:https://tv-elz.de/veranstaltung/sommerfest-und-sportlerehrung
LOCATION:Turnplatzgelände an der Elzer Vereinsturnhalle\, Alter Straßenberg 32\, 65604 Elz\, Hessen\, Deutschland
CATEGORIES:TV Elz
END:VEVENT
BEGIN:VEVENT
DTSTART;TZID=Europe/Berlin:20240622T103000
DTEND;TZID=Europe/Berlin:20240622T170000
DTSTAMP:20260423T204836
CREATED:20240528T175959Z
LAST-MODIFIED:20240528T184532Z
UID:8590-1719052200-1719075600@tv-elz.de
SUMMARY:KiLa Cup
DESCRIPTION:
URL:https://tv-elz.de/veranstaltung/kila-cup
LOCATION:Turnplatzgelände an der Elzer Vereinsturnhalle\, Alter Straßenberg 32\, 65604 Elz\, Hessen\, Deutschland
CATEGORIES:Leichtathletik,TV Elz
END:VEVENT
BEGIN:VEVENT
DTSTART;TZID=Europe/Berlin:20230617T150000
DTEND;TZID=Europe/Berlin:20230617T233000
DTSTAMP:20260423T204836
CREATED:20230429T095558Z
LAST-MODIFIED:20230429T100000Z
UID:6511-1687014000-1687044600@tv-elz.de
SUMMARY:125 Jahre TV Elz: Sport- und Musikfestival
DESCRIPTION:Alle Infos zur großen Jubiläumsfeier findet ihr auf der Veranstaltungsseite:\nSport- und Musikfestival
URL:https://tv-elz.de/veranstaltung/125-jahre-tv-elz-sport-und-musikfestival
LOCATION:Turnplatzgelände an der Elzer Vereinsturnhalle\, Alter Straßenberg 32\, 65604 Elz\, Hessen\, Deutschland
CATEGORIES:TV Elz
ATTACH;FMTTYPE=image/jpeg:https://tv-elz.de/wp-content/uploads/2023/04/Logo-TV-Elz-Sport-und-Musikfestival-.jpg
END:VEVENT
BEGIN:VEVENT
DTSTART;TZID=Europe/Berlin:20230325T110000
DTEND;TZID=Europe/Berlin:20230325T190000
DTSTAMP:20260423T204836
CREATED:20230302T151953Z
LAST-MODIFIED:20230302T151953Z
UID:6199-1679742000-1679770800@tv-elz.de
SUMMARY:Volleyball: Hessenjugendpokal U16
DESCRIPTION:Die U16 der TVE-Volleyballer hat sich sensationell für das Hessenjugendpokalfinale qualifiziert. Die Volleyballabteilung darf die Veranstaltung für den HVV ausrichten und startet damit in ihr Jubiläumsjahr. 50 Jahre Volleyball im TV Elz! \nDie Abteilung begrüßt die teilnehmenden Teams am 25.3. ab 11:00 Uhr in der Sporthalle der Fürst-Johann-Ludwig-Schule in Hadamar.
URL:https://tv-elz.de/veranstaltung/volleyball-hessenjugendpokal-u16
LOCATION:Fürst-Johann-Ludwig-Schule\, Hadamar\, Freiherr-vom-Stein-Straße 20a\, Hadamar\, Hessen\, 65558\, Deutschland
END:VEVENT
BEGIN:VEVENT
DTSTART;TZID=Europe/Berlin:20230305T110000
DTEND;TZID=Europe/Berlin:20230305T140000
DTSTAMP:20260423T204836
CREATED:20230211T094209Z
LAST-MODIFIED:20230308T102418Z
UID:6103-1678014000-1678024800@tv-elz.de
SUMMARY:125 Jahre TV 1898 Elz e.V. - Akademische Feier (auf Einladung)
DESCRIPTION:https://tv-elz.de/wp-content/uploads/2023/02/125-Jahre-Turnverein-ELZ.mp4\nIn diesem Jahr wird unser Verein 125 Jahre alt. Natürlich wollen wir dieses Jubiläum im Laufe des Jahres 2023 gebührend würdigen und feiern. \nDen Auftakt der Feierlichkeiten bildet (als geschlossene Veranstaltung) die Akademische Feier am 5. März 2023 im Bürgerhaus Elz. \nZu den geladenen Gästen zählen ausgewählte Persönlichkeiten aus Sport und Politik. Außerdem sind alle Ehrenmitglieder\, ehemalige und aktuelle Vorstandsmitglieder\, Abteilungsleiterinnen und Abteilungsleiter sowie Übungsleiterinnen und Übungsleiter des TV Elz geladen. \nNach einem Sektempfang und Grußworten wird der Turnverein in einem etwa 30-minütigen Film präsentiert. Anschließend lädt der Turnverein zu einem Imbiss ein. \n+++Update vom 8. März 2023+++\nSo verlief die Akademische Feier im Elzer Bürgerhaus:\n125 Jahre Erfolgsgeschichte \nVorschau: \nDie große Jubiläumsparty für alle Freundinnen und Freunde des Turnvereins wird als Open Air Veranstaltung mit Livemusik und aktivem Sportprogramm für Groß und Klein am 17. Juni 2023 auf dem Turnplatz des TV Elz stattfinden. \nAußerdem richtet der TV Elz im Rahmen seines Jubiläums am 9. Juli 2023 das Gaukinderturnfest aus.
URL:https://tv-elz.de/veranstaltung/125-jahre-tv-1898-elz-e-v-akademische-feier-auf-einladung
LOCATION:Bürgerhaus Elz\, Lehrgasse 19\, Elz\, 65604
ATTACH;FMTTYPE=image/png:https://tv-elz.de/wp-content/uploads/2023/02/125-Jahre-TV-Elz.png
END:VEVENT
BEGIN:VEVENT
DTSTART;VALUE=DATE:20220910
DTEND;VALUE=DATE:20220911
DTSTAMP:20260423T204836
CREATED:20220619T155634Z
LAST-MODIFIED:20220729T071026Z
UID:4836-1662768000-1662854399@tv-elz.de
SUMMARY:Werfertag 2022
DESCRIPTION:Zeitplan 2022
URL:https://tv-elz.de/veranstaltung/werfertag-2022
LOCATION:Vereinsturnhalle\, Alter Straßenberg 32\, Elz\, Hessen\, 65604\, Deutschland
CATEGORIES:Leichtathletik
END:VEVENT
BEGIN:VEVENT
DTSTART;TZID=Europe/Berlin:20220305T150000
DTEND;TZID=Europe/Berlin:20220305T180000
DTSTAMP:20260423T204836
CREATED:20220124T082543Z
LAST-MODIFIED:20220124T082543Z
UID:3932-1646492400-1646503200@tv-elz.de
SUMMARY:Heimwettkampf der Gewichtheber\, Hessenliga
DESCRIPTION:Die Hessen-Liga ist die oberste Landesliga im olympisch Gewichtheben in Hessen. \nDerzeit stehen sich im Kampf gegenüber\, die Mannschaften vom: \nTurnverein 1898 e. V. Elz\nKSV 1959 Langen e. V.\nFTG 1900 e.V. Pfungstadt \nDer Kampf besteht aus den Einzeldisziplinen Reißen und Stoßen.\nJede Mannschaft besteht aus 5 Athleten\, von denen die 4 Punktbesten in die Wertung gelangen. Männer und Frauen heben in gemischten Mannschaften. Um ein punktgleiches Verhältnis zu erhalten\, wird das eigene Körpergewicht bei den Männern und das halbe Körpergewicht bei den Frauen von der jeweils höchst gehobenen Last beider Disziplinen abgezogen und die Werte addiert. \nDie Veranstaltung unterliegt der 3 G-Regel (geimpft\, genesen oder getestet): Wir bitten alle Besucher\, Betreuer und Athleten einen entsprechenden Nachweis mitzubringen. 
URL:https://tv-elz.de/veranstaltung/heimwettkampf-der-gewichtheber-hessenliga-4
CATEGORIES:Gewichtheben,TV Elz
ATTACH;FMTTYPE=image/jpeg:https://tv-elz.de/wp-content/uploads/2019/10/20191005_180739.jpg
END:VEVENT
BEGIN:VEVENT
DTSTART;TZID=Europe/Berlin:20211009T150000
DTEND;TZID=Europe/Berlin:20211009T180000
DTSTAMP:20260423T204836
CREATED:20210929T111245Z
LAST-MODIFIED:20210929T114254Z
UID:3605-1633791600-1633802400@tv-elz.de
SUMMARY:Heimwettkampf der Gewichtheber\, Hessenliga
DESCRIPTION:Die Hessen-Liga ist die oberste Landesliga im olympisch Gewichtheben in Hessen. \nDerzeit stehen sich im Kampf gegenüber\, die Mannschaften vom: \nTurnverein 1898 e. V. Elz\nKSV 1959 Langen e. V.\nFTG 1900 e.V. Pfungstadt \nDer Kampf besteht aus den Einzeldisziplinen Reißen und Stoßen.\nJede Mannschaft besteht aus 5 Athleten\, von denen die 4 Punktbesten in die Wertung gelangen. Männer und Frauen heben in gemischten Mannschaften. Um ein punktgleiches Verhältnis zu erhalten\, wird das eigene Körpergewicht bei den Männern und das halbe Körpergewicht bei den Frauen von der jeweils höchst gehobenen Last beider Disziplinen abgezogen und die Werte addiert. \nDie Athleten vom TV Elz sind derzeit der amtierende Mannschaftsmeister und geben alles um ihren Titel zu behalten! \nDie Veranstaltung unterliegt der 3 G-Regel (geimpft\, genesen oder getestet): Wir bitten alle Besucher\, Betreuer und Athleten einen entsprechenden Nachweis mitzubringen. 
URL:https://tv-elz.de/veranstaltung/heimwettkampf-der-gewichtheber-hessenliga-3
LOCATION:Vereinsturnhalle\, Alter Straßenberg 32\, Elz\, Hessen\, 65604\, Deutschland
CATEGORIES:Gewichtheben,TV Elz
ATTACH;FMTTYPE=image/jpeg:https://tv-elz.de/wp-content/uploads/2020/09/IMG-20191109-WA0001.jpg
END:VEVENT
BEGIN:VEVENT
DTSTART;TZID=Europe/Berlin:20210130T150000
DTEND;TZID=Europe/Berlin:20210130T180000
DTSTAMP:20260423T204836
CREATED:20200926T065714Z
LAST-MODIFIED:20201013T200633Z
UID:3025-1612018800-1612029600@tv-elz.de
SUMMARY:Heimwettkampf der Gewichtheber\, Hessenliga
DESCRIPTION:Die Hessen-Liga ist die oberste Landesliga im olympisch Gewichtheben in Hessen. \nDerzeit stehen sich im Kampf gegenüber\, die Mannschaften vom: \nTurnverein 1898 e. V. Elz\nKSV 1959 Langen e. V. I\nKSV 1959 Langen e. V. II\nFTG 1900 e.V. Pfungstadt\nSchwerathletik Verein Kassel 1993 e. V. \nDer Kampf besteht aus den Einzeldisziplinen Reißen und Stoßen.\nJede Mannschaft besteht aus 5 Athleten\, von denen die 4 Punktbesten in die Wertung gelangen. Männer und Frauen heben in gemischten Mannschaften. Um ein punktgleiches Verhältnis zu erhalten\, wird das eigene Körpergewicht bei den Männern und das halbe Körpergewicht bei den Frauen von der jeweils höchst gehobenen Last beider Disziplinen abgezogen und die Werte addiert. \nDie Athleten vom TV Elz sind derzeit der amtierende Mannschaftsmeister und geben alles um ihren Titel zu behalten!
URL:https://tv-elz.de/veranstaltung/heimwettkampf-der-gewichtheber-hessenliga-2
LOCATION:Vereinsturnhalle\, Alter Straßenberg 32\, Elz\, Hessen\, 65604\, Deutschland
CATEGORIES:Gewichtheben
ATTACH;FMTTYPE=image/jpeg:https://tv-elz.de/wp-content/uploads/2020/09/Mannschaftsfoto-Gewichtheber-TV-Elz-Hessenliga-10.10.2020-e1602656916311.jpg
END:VEVENT
BEGIN:VEVENT
DTSTART;TZID=Europe/Berlin:20201010T150000
DTEND;TZID=Europe/Berlin:20201010T180000
DTSTAMP:20260423T204836
CREATED:20200926T065705Z
LAST-MODIFIED:20200926T071322Z
UID:3022-1602342000-1602352800@tv-elz.de
SUMMARY:Heimwettkampf der Gewichtheber\, Hessenliga
DESCRIPTION:
URL:https://tv-elz.de/veranstaltung/heimwettkampf-der-gewichtheber-hessenliga
LOCATION:Vereinsturnhalle\, Alter Straßenberg 32\, Elz\, Hessen\, 65604\, Deutschland
CATEGORIES:Gewichtheben
ATTACH;FMTTYPE=image/jpeg:https://tv-elz.de/wp-content/uploads/2019/11/Bild-01-e1573477306531.jpg
END:VEVENT
BEGIN:VEVENT
DTSTART;TZID=Europe/Berlin:20200911T190000
DTEND;TZID=Europe/Berlin:20200911T190000
DTSTAMP:20260423T204836
CREATED:20200818T151341Z
LAST-MODIFIED:20200818T154350Z
UID:2939-1599850800-1599850800@tv-elz.de
SUMMARY:Jahreshauptversammlung
DESCRIPTION:Einladung \nzur Jahreshauptversammlungam Freitag\, den 11.09.2020 um 19.00 Uhr im Bürgerhaus Elz \n \nTagesordnung: \n\nBegrüßung\nFeststellung der fristgerechten Einladung und Beschlussfähigkeit\nTotengedenken\nBerichte:2. VorsitzenderLeiter SportbetriebKurzberichte aus den Abteilungen\nEhrungen für besondere Verdienste und Verleihung der Vereinswandertafel\nBericht des Kassierers\nBericht der Kassenprüfer und Entlastung des Vorstandes\nEhrungen für langjährige Mitgliedschaft\nWahlen:1. Vorsitzende/r2. Vorsitzende/r1. Kassierer/in2. Kassierer/in1. Schriftführer/inLeiter/in Baulicher BereichLeiter SportbetriebLeiter/in ÖffentlichkeitsarbeitBeisitzer/in Vorstandsarbeit\nWahl der Rechnungsprüfer\nGeplanter Anbau zur Erweiterung des Geräte- und Fitnessraumes\nAnträge\nVerschiedenes\nPeter Martin\, 2. Vorsitzender \n\n\nDie Teilnehmer werden auf die Verpflichtung hingewiesen\, beim Betreten und Verlassen des Saales einen Mund-Nasen-Schutz zu tragen und die Sicherheitsabstände einzuhalten. Wenn sie Platz genommen haben\, kann der Mund-Nasen-Schutz abgenommen werden.
URL:https://tv-elz.de/veranstaltung/jahreshauptversammlung
LOCATION:Bürgerhaus Elz\, Lehrgasse 19\, Elz\, 65604
END:VEVENT
BEGIN:VEVENT
DTSTART;VALUE=DATE:20200126
DTEND;VALUE=DATE:20200127
DTSTAMP:20260423T204836
CREATED:20200104T101241Z
LAST-MODIFIED:20200104T101708Z
UID:2449-1579996800-1580083199@tv-elz.de
SUMMARY:Neujahrsempfang und Sportlerehrung 2020
DESCRIPTION:Der TV Elz kann auf ein erfolgreiches Sportjahr 2019 zurückblicken und würdigt dies im Rahmen seines Neujahrsempfangs. \n  \nIhr seid herzlich eingeladen ab 16:00 Uhr mit uns im Bürgerhaus Elz zu feiern. 
URL:https://tv-elz.de/veranstaltung/neujahrsempfang-und-sportlerehrung-2020
LOCATION:Bürgerhaus Elz\, Lehrgasse 19\, Elz\, 65604
CATEGORIES:TV Elz
ATTACH;FMTTYPE=image/jpeg:https://tv-elz.de/wp-content/uploads/2020/01/Einladung.jpg
END:VEVENT
BEGIN:VEVENT
DTSTART;TZID=Europe/Berlin:20190831T093000
DTEND;TZID=Europe/Berlin:20190831T235900
DTSTAMP:20260423T204836
CREATED:20190521T141409Z
LAST-MODIFIED:20190701T193959Z
UID:1721-1567243800-1567295940@tv-elz.de
SUMMARY:23. Werfertag TV 1898 Elz
DESCRIPTION:Für Seniorinnen und Senioren\, weibliche und männliche Jugend U20/U18\, Schülerinnen und Schüler U16/U14\n  \n  \n \n  \n  \nWettbewerbe: Diskus\, Hammer und Kugel für die Klassen gemäß Zeitplan \n\n\n\n\nvorläufiger Zeitplan\nHammer\nKugel\nDiskus\n\n\n09:30 Uhr\nMänner\nM30 bis M55\nM60 und älter\nW50 und älter\n \n \n\n\n10:30 Uhr\n \nMänner\nM30 bis M55\nMJ U20/U18\nM60 und älter\nW50 und älter\n\n\n11:30 Uhr\nMJ U20/U18\nFrauen\nW30 bis W45\nWJ U20/U18\n \n \n\n\n12:30 Uhr\nSchülerinnen\nU16/U14\nSchüler U16/U14\n \n \n\n\n13:30 Uhr\n \nSchülerinnen\nU16/U14\nMänner\nM30 bis M55\nMJ U20/U18\n\n\n14:30 Uhr\n \nSchüler U16/U14\nSchülerinnen\nU16/U14\n\n\n15:30 Uhr\n \nFrauen\nW30 bis W45\nWJ U20/U18\nSchüler U16/U14\n\n\n16:30 Uhr\n \n \nFrauen\nW30 bis W45\nWJ U20/U18\n\n\n\nÄnderungen des Zeitplans +/- 30 Minuten sind möglich! \n\nAnmeldung: per E-Mail an catringemeinder@gmx.de\nStartgebühr: 3\,00 Euro pro Disziplin \nMeldungen bis Montag\, 26. August 2019\nNachmeldungen: Zuschlag 2\,00 Euro pro Disziplin \nAuszeichnungen: Die drei Ersten eines Wettbewerbs erhalten für ihre Leistungen eine Urkunde \nBemerkung: Der Veranstalter übernimmt keine Haftung für Unfälle\, Diebstahl oder sonstige Schadensfälle. \nDie Wettkämpfe werden nach den Regeln der internationalen Wettkampfbestimmungen (“IWB”) durchgeführt. \nNach Meldeschluss wird anhand der Teilnehmerzahlen ein endgültiger Zeitplan erstellt. \nVeröffentlichung auf der Homepage: www.tv-elz.de und per E-Mail an den Absender der Meldungen. \nAusschreibung Werfertag 2019
URL:https://tv-elz.de/veranstaltung/23-werfertag-tv-1898-elz
LOCATION:Vereinsturnhalle\, Alter Straßenberg 32\, Elz\, Hessen\, 65604\, Deutschland
CATEGORIES:TV Elz
ATTACH;FMTTYPE=image/jpeg:https://tv-elz.de/wp-content/uploads/2019/05/Werfertag-2000x1200.jpg
END:VEVENT
BEGIN:VEVENT
DTSTART;TZID=Europe/Berlin:20190810T190000
DTEND;TZID=Europe/Berlin:20190810T233000
DTSTAMP:20260423T204836
CREATED:20190419T092148Z
LAST-MODIFIED:20190509T173206Z
UID:1309-1565463600-1565479800@tv-elz.de
SUMMARY:Turnereichenfest 2019
DESCRIPTION:
URL:https://tv-elz.de/veranstaltung/turnereichenfest-2019
LOCATION:Vereinsturnhalle\, Alter Straßenberg 32\, Elz\, Hessen\, 65604\, Deutschland
CATEGORIES:TV Elz
ATTACH;FMTTYPE=image/jpeg:https://tv-elz.de/wp-content/uploads/2019/04/Turnereichenfest.jpg
END:VEVENT
BEGIN:VEVENT
DTSTART;TZID=Europe/Berlin:20190525T150000
DTEND;TZID=Europe/Berlin:20190525T200000
DTSTAMP:20260423T204836
CREATED:20190417T150229Z
LAST-MODIFIED:20190521T141430Z
UID:1293-1558796400-1558814400@tv-elz.de
SUMMARY:Interne Vereinsmeisterschaft der Gewichtheber
DESCRIPTION:
URL:https://tv-elz.de/veranstaltung/gewichtheben-interner-vereinsmeisterschaften-sommerfest
LOCATION:Vereinsturnhalle\, Alter Straßenberg 32\, Elz\, Hessen\, 65604\, Deutschland
CATEGORIES:Gewichtheben
ATTACH;FMTTYPE=image/gif:https://tv-elz.de/wp-content/uploads/2019/05/Slider-Abt-Gewichtheben-Andi.gif
END:VEVENT
END:VCALENDAR